BEGIN:VCALENDAR
VERSION:2.0
PRODID:-//cpto.if.ua - ECPv4.9.10//NONSGML v1.0//EN
CALSCALE:GREGORIAN
METHOD:PUBLISH
X-WR-CALNAME:cpto.if.ua
X-ORIGINAL-URL:https://cpto.if.ua
X-WR-CALDESC:Events for cpto.if.ua
BEGIN:VTIMEZONE
TZID:Europe/Kyiv
BEGIN:DAYLIGHT
TZOFFSETFROM:+0200
TZOFFSETTO:+0300
TZNAME:EEST
DTSTART:20250330T010000
END:DAYLIGHT
BEGIN:STANDARD
TZOFFSETFROM:+0300
TZOFFSETTO:+0200
TZNAME:EET
DTSTART:20251026T010000
END:STANDARD
END:VTIMEZONE
BEGIN:VEVENT
DTSTART;VALUE=DATE:20251117
DTEND;VALUE=DATE:20251118
DTSTAMP:20260421T145122
CREATED:20251027T094439Z
LAST-MODIFIED:20251117T142700Z
UID:11503-1763337600-1763423999@cpto.if.ua
SUMMARY:СТАРТ НАВЧАННЯ МОЛОДША МЕДИЧНА СЕСТЕРА (МОЛОДШИЙ МЕДИЧНИЙ БРАТ) З ДОГЛЯДУ ЗА ХВОРИМИ
DESCRIPTION:17 листопада 2025 року у Івано-Франківському центрі професійно-технічної освіти державної служби зайнятості  починають навчання здобувачі освіти групи «МСС-49»\, які навчатимуться за професією «Молодша медична сестра (молодший медичний брат) з догляду за хворими».  \n
URL:https://cpto.if.ua/event/%d1%81%d1%82%d0%b0%d1%80%d1%82-%d0%bd%d0%b0%d0%b2%d1%87%d0%b0%d0%bd%d0%bd%d1%8f-%d0%bc%d0%be%d0%bb%d0%be%d0%b4%d1%88%d0%b8%d1%85-%d0%bc%d0%b5%d0%b4%d0%b8%d1%87%d0%bd%d0%b8%d1%85-%d1%81%d0%b5%d1%81/
LOCATION:ЦПТО
END:VEVENT
END:VCALENDAR