BEGIN:VCALENDAR
VERSION:2.0
PRODID:-//cpto.if.ua - ECPv4.9.10//NONSGML v1.0//EN
CALSCALE:GREGORIAN
METHOD:PUBLISH
X-WR-CALNAME:cpto.if.ua
X-ORIGINAL-URL:https://cpto.if.ua
X-WR-CALDESC:Events for cpto.if.ua
BEGIN:VTIMEZONE
TZID:Europe/Kyiv
BEGIN:DAYLIGHT
TZOFFSETFROM:+0200
TZOFFSETTO:+0300
TZNAME:EEST
DTSTART:20250330T010000
END:DAYLIGHT
BEGIN:STANDARD
TZOFFSETFROM:+0300
TZOFFSETTO:+0200
TZNAME:EET
DTSTART:20251026T010000
END:STANDARD
END:VTIMEZONE
BEGIN:VEVENT
DTSTART;VALUE=DATE:20251103
DTEND;VALUE=DATE:20251104
DTSTAMP:20260421T130752
CREATED:20251027T085110Z
LAST-MODIFIED:20251027T091146Z
UID:11475-1762128000-1762214399@cpto.if.ua
SUMMARY:СТАРТ НАВЧАННЯ КАСИРІВ ТОРГОВЕЛЬНОГО ЗАЛУ
DESCRIPTION:03 листопада 2025 року у Івано-Франківському центрі професійно-технічної освіти державної служби зайнятості  починають навчання здобувачі освіти групи «КТЗ-25»\, які навчалися за професією «Касир торговельного залу». \n
URL:https://cpto.if.ua/event/%d1%81%d1%82%d0%b0%d1%80%d1%82-%d0%bd%d0%b0%d0%b2%d1%87%d0%b0%d0%bd%d0%bd%d1%8f-%d0%ba%d0%b0%d1%81%d0%b8%d1%80%d1%96%d0%b2-%d1%82%d0%be%d1%80%d0%b3%d0%be%d0%b2%d0%b5%d0%bb%d1%8c%d0%bd%d0%be%d0%b3/
LOCATION:ЦПТО
END:VEVENT
END:VCALENDAR