BEGIN:VCALENDAR
VERSION:2.0
PRODID:-//cpto.if.ua - ECPv4.9.10//NONSGML v1.0//EN
CALSCALE:GREGORIAN
METHOD:PUBLISH
X-WR-CALNAME:cpto.if.ua
X-ORIGINAL-URL:https://cpto.if.ua
X-WR-CALDESC:Events for cpto.if.ua
BEGIN:VTIMEZONE
TZID:Europe/Kyiv
BEGIN:DAYLIGHT
TZOFFSETFROM:+0200
TZOFFSETTO:+0300
TZNAME:EEST
DTSTART:20250330T010000
END:DAYLIGHT
BEGIN:STANDARD
TZOFFSETFROM:+0300
TZOFFSETTO:+0200
TZNAME:EET
DTSTART:20251026T010000
END:STANDARD
END:VTIMEZONE
BEGIN:VEVENT
DTSTART;TZID=Europe/Kyiv:20251027T080000
DTEND;TZID=Europe/Kyiv:20251027T170000
DTSTAMP:20260421T100842
CREATED:20251027T092746Z
LAST-MODIFIED:20251027T092746Z
UID:11493-1761552000-1761584400@cpto.if.ua
SUMMARY:ВИПУСК АДМІНІСТРАТОРІВ
DESCRIPTION:26 березня 2025 року у Івано-Франківському центрі професійно-технічної освіти державної служби зайнятості  завершують навчання здобувачі освіти групи «А-27»\, які навчалися за професією «Адміністратор». \n
URL:https://cpto.if.ua/event/%d0%b2%d0%b8%d0%bf%d1%83%d1%81%d0%ba-%d0%b0%d0%b4%d0%bc%d1%96%d0%bd%d1%96%d1%81%d1%82%d1%80%d0%b0%d1%82%d0%be%d1%80%d1%96%d0%b2-9/
LOCATION:ЦПТО
END:VEVENT
END:VCALENDAR